BEGIN:VCALENDAR
VERSION:2.0
PRODID:-//Gastrolábio - ECPv6.15.20//NONSGML v1.0//EN
CALSCALE:GREGORIAN
METHOD:PUBLISH
X-ORIGINAL-URL:https://gastrolabio.pt
X-WR-CALDESC:Eventos para Gastrolábio
REFRESH-INTERVAL;VALUE=DURATION:PT1H
X-Robots-Tag:noindex
X-PUBLISHED-TTL:PT1H
BEGIN:VTIMEZONE
TZID:Europe/Lisbon
BEGIN:DAYLIGHT
TZOFFSETFROM:+0000
TZOFFSETTO:+0100
TZNAME:WEST
DTSTART:20240331T010000
END:DAYLIGHT
BEGIN:STANDARD
TZOFFSETFROM:+0100
TZOFFSETTO:+0000
TZNAME:WET
DTSTART:20241027T010000
END:STANDARD
BEGIN:DAYLIGHT
TZOFFSETFROM:+0000
TZOFFSETTO:+0100
TZNAME:WEST
DTSTART:20250330T010000
END:DAYLIGHT
BEGIN:STANDARD
TZOFFSETFROM:+0100
TZOFFSETTO:+0000
TZNAME:WET
DTSTART:20251026T010000
END:STANDARD
BEGIN:DAYLIGHT
TZOFFSETFROM:+0000
TZOFFSETTO:+0100
TZNAME:WEST
DTSTART:20260329T010000
END:DAYLIGHT
BEGIN:STANDARD
TZOFFSETFROM:+0100
TZOFFSETTO:+0000
TZNAME:WET
DTSTART:20261025T010000
END:STANDARD
END:VTIMEZONE
BEGIN:VEVENT
DTSTART;TZID=Europe/Lisbon:20250826T140000
DTEND;TZID=Europe/Lisbon:20250826T200000
DTSTAMP:20260419T023604
CREATED:20250816T173135Z
LAST-MODIFIED:20250823T172401Z
UID:1152-1756216800-1756238400@gastrolabio.pt
SUMMARY:SEM DRAMA
DESCRIPTION:Mini-salão de sidra espontâneo. Produtores nacionais\, provas livres e petiscos.\n\n\n\n\n\n\n\nDia 26 temos muita sidra a chegar ao tasco: 6 produtores nacionais e várias referências surpresa! Cancelaram o SIDRAMA mas\, para que o drama não seja tanto\, conseguimos trazer alguns sidreiros ao Pacóvio para abrir umas garrafas! O Luís\, tasqueiro profissional\, vai preparar dos seus pinchos minhotos para acamarem bem estes líquidos. \n\n\n\nA tarde vai ser de provas livres e conversas espontâneas\, com garrafas frescas para abrir e brindar. \n\n\n\nVão estar presentes: \n\n\n\n\nADA\n\n\n\nARRAÇADA\n\n\n\nCASTELO BRANCO\n\n\n\nTHE DRUNKEN PHARMACIST\n\n\n\nFACA NOS DENTES\n\n\n\nNORIS\n\n\n\nNUA\n\n\n\nOG&ASSOCIADOS\n\n\n\n\nO convívio estende-se até às 20h ou até quando o Luís e a Vanda deixarem!  \n\n\n\n\n\n\n\nEntrada Livre \n\n\n\n\n\n\n\n\n\n\n\n\n\nLocal do evento:PacóvioR. Prior do Crato\, 60Viana do Castelo4900-550
URL:https://gastrolabio.pt/evento/sem-drama/
ATTACH;FMTTYPE=image/jpeg:https://gastrolabio.pt/wp-content/uploads/2025/08/Post-2.jpg
END:VEVENT
END:VCALENDAR