BEGIN:VCALENDAR
VERSION:2.0
PRODID:-//Gastrolábio - ECPv6.15.20//NONSGML v1.0//EN
CALSCALE:GREGORIAN
METHOD:PUBLISH
X-ORIGINAL-URL:https://gastrolabio.pt
X-WR-CALDESC:Eventos para Gastrolábio
REFRESH-INTERVAL;VALUE=DURATION:PT1H
X-Robots-Tag:noindex
X-PUBLISHED-TTL:PT1H
BEGIN:VTIMEZONE
TZID:Europe/Lisbon
BEGIN:DAYLIGHT
TZOFFSETFROM:+0000
TZOFFSETTO:+0100
TZNAME:WEST
DTSTART:20240331T010000
END:DAYLIGHT
BEGIN:STANDARD
TZOFFSETFROM:+0100
TZOFFSETTO:+0000
TZNAME:WET
DTSTART:20241027T010000
END:STANDARD
BEGIN:DAYLIGHT
TZOFFSETFROM:+0000
TZOFFSETTO:+0100
TZNAME:WEST
DTSTART:20250330T010000
END:DAYLIGHT
BEGIN:STANDARD
TZOFFSETFROM:+0100
TZOFFSETTO:+0000
TZNAME:WET
DTSTART:20251026T010000
END:STANDARD
BEGIN:DAYLIGHT
TZOFFSETFROM:+0000
TZOFFSETTO:+0100
TZNAME:WEST
DTSTART:20260329T010000
END:DAYLIGHT
BEGIN:STANDARD
TZOFFSETFROM:+0100
TZOFFSETTO:+0000
TZNAME:WET
DTSTART:20261025T010000
END:STANDARD
END:VTIMEZONE
BEGIN:VEVENT
DTSTART;TZID=Europe/Lisbon:20250724T183000
DTEND;TZID=Europe/Lisbon:20250724T213000
DTSTAMP:20260419T023551
CREATED:20250711T223303Z
LAST-MODIFIED:20250816T164731Z
UID:505-1753381800-1753392600@gastrolabio.pt
SUMMARY:Isto Existiu?
DESCRIPTION:Conversa com a FACA NOS DENTES sobre a sidra do Minho+ jantar do PACÓVIO: 3 pratos\, 3 sidras\n\n\n\n\n\n\n\nPouca gente sabe que se fazia sidra no Minho. E pouca gente sabe que se faz sidra no Minho. O Pedro Paiva\, da sidra Faca nos Dentes\, vem ao Pacóvio para contar algumas das histórias que nos ajudam a remontar a este passado cultural que ainda tem os seus vestígios nas árvores que todos os anos procura pelo território para fazer as suas sidras.O primeiro momento é de conversa\, com prova.O segundo momento\, é um menu de 3 pratos do pacóvio Luís: 3 pratos com 3 sidras (reservas limitadas aos lugares).Quem reservar o jantar\, garante lugar sentado durante a conversa com prova.A conversa é livre\, por isso apareçam até encher o tasco! \n\n\n\n\n\n\n\nConversa: GratuitaJantar: 28€ (lugares limitados e por reserva) \n\n\n\n\n\n\n\n\n\n\n\nReservas para o Jantar (3 pratos\, 3 sidras) 28€ (e garante lugar sentado para a conversa com prova). \n\n\n\n\n\nNome e Apelido*\n\n\n\nE-mail*\n\n\n\n\n\nContacto Telefónico*\n\n\n\nNúmero total de pessoas*\n\n\n\nNomes dos participantes extra:\n\nReservar Jantar\n\n\n\n\n\n\n\n\n\nAcompanha:Faca nos DentesPacóvioGastrolábio \n\n\n\n\n\n\n\nLocal do evento:PacóvioR. Prior do Crato\, 60Viana do Castelo4900-550 \n\n\n\n\n\n\n\nCartaz: Vanda BalinhaFotografia: João Peixoto
URL:https://gastrolabio.pt/evento/isto-existiu/
ATTACH;FMTTYPE=image/jpeg:https://gastrolabio.pt/wp-content/uploads/2025/07/peixota____Prancheta-1_rgb-scaled.jpg
END:VEVENT
END:VCALENDAR